BEGIN:VCALENDAR
VERSION:2.0
PRODID:-//The Grand Hotel - ECPv5.0.1//NONSGML v1.0//EN
CALSCALE:GREGORIAN
METHOD:PUBLISH
X-WR-CALNAME:The Grand Hotel
X-ORIGINAL-URL:http://www.grandhotelfrankston.com.au
X-WR-CALDESC:Events for The Grand Hotel
BEGIN:VTIMEZONE
TZID:Australia/Melbourne
BEGIN:STANDARD
TZOFFSETFROM:+1100
TZOFFSETTO:+1000
TZNAME:AEST
DTSTART:20190406T160000
END:STANDARD
BEGIN:DAYLIGHT
TZOFFSETFROM:+1000
TZOFFSETTO:+1100
TZNAME:AEDT
DTSTART:20191005T160000
END:DAYLIGHT
END:VTIMEZONE
BEGIN:VEVENT
DTSTART;TZID=Australia/Melbourne:20190701T060000
DTEND;TZID=Australia/Melbourne:20190731T233000
DTSTAMP:20200301T173940
CREATED:20190611T112846Z
LAST-MODIFIED:20190611T112846Z
UID:1113-1561960800-1564615800@www.grandhotelfrankston.com.au
SUMMARY:A Taste Of Christmas In July
DESCRIPTION:A TASTE OF CHRISTMAS IN JULY \nJoin us here at Caulfield Glasshouse & feast on our Christmas Menu!\nAvailable for lunch & dinner from Monday 1 July to Wednesday 31 July\nView our Christmas Menu here https://bit.ly/2IjvZas\nBookings essential  \nPlus exclusive weekly Member offers available in July\nNot a member? Join today! \nConditions apply \n
URL:http://www.grandhotelfrankston.com.au/event/a-taste-of-christmas-in-july/
CATEGORIES:featured
ATTACH;FMTTYPE=:
END:VEVENT
END:VCALENDAR