BEGIN:VCALENDAR
VERSION:2.0
PRODID:-//The Grand Hotel - ECPv5.0.1//NONSGML v1.0//EN
CALSCALE:GREGORIAN
METHOD:PUBLISH
X-WR-CALNAME:The Grand Hotel
X-ORIGINAL-URL:http://www.grandhotelfrankston.com.au
X-WR-CALDESC:Events for The Grand Hotel
BEGIN:VTIMEZONE
TZID:Australia/Melbourne
BEGIN:STANDARD
TZOFFSETFROM:+1100
TZOFFSETTO:+1000
TZNAME:AEST
DTSTART:20180331T160000
END:STANDARD
BEGIN:DAYLIGHT
TZOFFSETFROM:+1000
TZOFFSETTO:+1100
TZNAME:AEDT
DTSTART:20181006T160000
END:DAYLIGHT
END:VTIMEZONE
BEGIN:VEVENT
DTSTART;TZID=Australia/Melbourne:20181130T193000
DTEND;TZID=Australia/Melbourne:20181130T223000
DTSTAMP:20200229T025612
CREATED:20181101T134903Z
LAST-MODIFIED:20181101T134903Z
UID:928-1543606200-1543617000@www.grandhotelfrankston.com.au
SUMMARY:Horn vs Mundine
DESCRIPTION:Join us here at Caulfield Glasshouse to witness one of the biggest boxing bout on Australian soil in 2018\, as Jeff Horn takes on Anthony Mundine Live and Loud on our big screen! \nSPECIAL OFFER!\nPurchase a FRONT ROW SEAT for ONLY $50\nIncludes reserved seat with waiter service for the duration of the event\, sports bar meal & house drink on arrival!\nLimited spots available! \nBrisbane-based Horn is looking to rebound from his ninth round TKO defeat to Terence Crawford in June\, where he lost the WBO welterweight title. \nMundine is in the twilight of a near two decade career and says he will retire after fighting Horn. \nGoing in as the favourite can The Hornet silence The Man once and for all? \n
URL:http://www.grandhotelfrankston.com.au/event/horn-vs-mundine/
CATEGORIES:featured
ATTACH;FMTTYPE=:
END:VEVENT
END:VCALENDAR