BEGIN:VCALENDAR
VERSION:2.0
PRODID:-//The Grand Hotel - ECPv5.0.1//NONSGML v1.0//EN
CALSCALE:GREGORIAN
METHOD:PUBLISH
X-WR-CALNAME:The Grand Hotel
X-ORIGINAL-URL:http://www.grandhotelfrankston.com.au
X-WR-CALDESC:Events for The Grand Hotel
BEGIN:VTIMEZONE
TZID:Australia/Melbourne
BEGIN:STANDARD
TZOFFSETFROM:+1100
TZOFFSETTO:+1000
TZNAME:AEST
DTSTART:20190406T160000
END:STANDARD
BEGIN:DAYLIGHT
TZOFFSETFROM:+1000
TZOFFSETTO:+1100
TZNAME:AEDT
DTSTART:20191005T160000
END:DAYLIGHT
END:VTIMEZONE
BEGIN:VEVENT
DTSTART;TZID=Australia/Melbourne:20190411T103000
DTEND;TZID=Australia/Melbourne:20190411T123000
DTSTAMP:20200301T173842
CREATED:20190404T152727Z
LAST-MODIFIED:20190404T152727Z
UID:1074-1554978600-1554985800@www.grandhotelfrankston.com.au
SUMMARY:Kids Cooking Masterclass
DESCRIPTION:Join us these school holidays for our KIDS COOKING MASTERCLASS! \nThursday 11 April from 10:30am \nPizza making masterclass session – $10 per child \nBOOK NOW – Limited spots available \n
URL:http://www.grandhotelfrankston.com.au/event/kids-cooking-masterclass-2/
CATEGORIES:featured
ATTACH;FMTTYPE=:
END:VEVENT
END:VCALENDAR