BEGIN:VCALENDAR
VERSION:2.0
PRODID:-//The Grand Hotel - ECPv5.0.1//NONSGML v1.0//EN
CALSCALE:GREGORIAN
METHOD:PUBLISH
X-WR-CALNAME:The Grand Hotel
X-ORIGINAL-URL:http://www.grandhotelfrankston.com.au
X-WR-CALDESC:Events for The Grand Hotel
BEGIN:VTIMEZONE
TZID:Australia/Melbourne
BEGIN:STANDARD
TZOFFSETFROM:+1100
TZOFFSETTO:+1000
TZNAME:AEST
DTSTART:20180331T160000
END:STANDARD
BEGIN:DAYLIGHT
TZOFFSETFROM:+1000
TZOFFSETTO:+1100
TZNAME:AEDT
DTSTART:20181006T160000
END:DAYLIGHT
END:VTIMEZONE
BEGIN:VEVENT
DTSTART;TZID=Australia/Melbourne:20181104T120000
DTEND;TZID=Australia/Melbourne:20181104T170000
DTSTAMP:20200301T174313
CREATED:20181029T160432Z
LAST-MODIFIED:20181029T160432Z
UID:922-1541332800-1541350800@www.grandhotelfrankston.com.au
SUMMARY:UFC 230: Cormier vs Lewis
DESCRIPTION:UFC 230 is almost upon us watch the fight live on our BIG screen here at Glasshouse Caulfield  🥊 \nSunday 4 November fight from 1pm \nThe headliner will see double champ Daniel Cormier defend his UFC heavyweight title against Derrick Lewis. The co-main is a battle of top middleweight fighters\, with Chris Weidman meeting Ronaldo ‘Jacare’ Souza. \nFree event \n
URL:http://www.grandhotelfrankston.com.au/event/ufc-230-cormier-vs-lewis/
CATEGORIES:featured
ATTACH;FMTTYPE=:
END:VEVENT
END:VCALENDAR