BEGIN:VCALENDAR
VERSION:2.0
PRODID:-//The Grand Hotel - ECPv5.0.1//NONSGML v1.0//EN
CALSCALE:GREGORIAN
METHOD:PUBLISH
X-WR-CALNAME:The Grand Hotel
X-ORIGINAL-URL:http://www.grandhotelfrankston.com.au
X-WR-CALDESC:Events for The Grand Hotel
BEGIN:VTIMEZONE
TZID:Australia/Melbourne
BEGIN:STANDARD
TZOFFSETFROM:+1100
TZOFFSETTO:+1000
TZNAME:AEST
DTSTART:20180331T160000
END:STANDARD
BEGIN:DAYLIGHT
TZOFFSETFROM:+1000
TZOFFSETTO:+1100
TZNAME:AEDT
DTSTART:20181006T160000
END:DAYLIGHT
END:VTIMEZONE
BEGIN:VEVENT
DTSTART;TZID=Australia/Melbourne:20181209T140000
DTEND;TZID=Australia/Melbourne:20181209T170000
DTSTAMP:20200229T025216
CREATED:20181115T113732Z
LAST-MODIFIED:20181115T113732Z
UID:943-1544364000-1544374800@www.grandhotelfrankston.com.au
SUMMARY:UFC 231: Holloway vs Ortega
DESCRIPTION:Two huge title fights 🥊\nHOLLOWAY vs ORTEGA\nSHEVCHENKO vs JOANNA\nSunday 9 December from 2pm \nCatch all the action LIVE & LOUD on our big screen here at Caulfield Glasshouse \nBad boy Max Holloway takes on the undefeated Brian Ortega live from Toronto\, Canada and Shevchenko & Joanna will light up the ring in women’s bout. \n
URL:http://www.grandhotelfrankston.com.au/event/ufc-231-holloway-vs-ortega/
CATEGORIES:featured
ATTACH;FMTTYPE=:
END:VEVENT
END:VCALENDAR