BEGIN:VCALENDAR
VERSION:2.0
PRODID:-//The Grand Hotel - ECPv5.0.1//NONSGML v1.0//EN
CALSCALE:GREGORIAN
METHOD:PUBLISH
X-WR-CALNAME:The Grand Hotel
X-ORIGINAL-URL:http://www.grandhotelfrankston.com.au
X-WR-CALDESC:Events for The Grand Hotel
BEGIN:VTIMEZONE
TZID:Australia/Melbourne
BEGIN:STANDARD
TZOFFSETFROM:+1100
TZOFFSETTO:+1000
TZNAME:AEST
DTSTART:20190406T160000
END:STANDARD
BEGIN:DAYLIGHT
TZOFFSETFROM:+1000
TZOFFSETTO:+1100
TZNAME:AEDT
DTSTART:20191005T160000
END:DAYLIGHT
END:VTIMEZONE
BEGIN:VEVENT
DTSTART;TZID=Australia/Melbourne:20190214T113000
DTEND;TZID=Australia/Melbourne:20190214T210000
DTSTAMP:20200301T173717
CREATED:20190206T111859Z
LAST-MODIFIED:20190206T111859Z
UID:1024-1550143800-1550178000@www.grandhotelfrankston.com.au
SUMMARY:Valentine's Day
DESCRIPTION:Spoil your valentine this Valentine’s Day  \nPurchase our famous Seafood Platter for two and receive two glasses of Chandon free!\nAll for $80! \nBook today to secure your spot. \n
URL:http://www.grandhotelfrankston.com.au/event/valentines-day/
CATEGORIES:featured
ATTACH;FMTTYPE=:
END:VEVENT
END:VCALENDAR