BEGIN:VCALENDAR
VERSION:2.0
PRODID:-//The Grand Hotel - ECPv5.0.1//NONSGML v1.0//EN
CALSCALE:GREGORIAN
METHOD:PUBLISH
X-WR-CALNAME:The Grand Hotel
X-ORIGINAL-URL:http://www.grandhotelfrankston.com.au
X-WR-CALDESC:Events for The Grand Hotel
BEGIN:VTIMEZONE
TZID:Australia/Melbourne
BEGIN:STANDARD
TZOFFSETFROM:+1100
TZOFFSETTO:+1000
TZNAME:AEST
DTSTART:20180331T160000
END:STANDARD
BEGIN:DAYLIGHT
TZOFFSETFROM:+1000
TZOFFSETTO:+1100
TZNAME:AEDT
DTSTART:20181006T160000
END:DAYLIGHT
END:VTIMEZONE
BEGIN:VEVENT
DTSTART;TZID=Australia/Melbourne:20181011T080000
DTEND;TZID=Australia/Melbourne:20181110T210000
DTSTAMP:20200301T174440
CREATED:20181011T150818Z
LAST-MODIFIED:20181011T150818Z
UID:915-1539244800-1541883600@www.grandhotelfrankston.com.au
SUMMARY:Win A VIP Winx Experience
DESCRIPTION:Place a bet on the app here at Caulfield Glasshouse to enter \nConditions apply* \n
URL:http://www.grandhotelfrankston.com.au/event/win-a-vip-winx-experience/
CATEGORIES:featured
ATTACH;FMTTYPE=:
END:VEVENT
END:VCALENDAR