BEGIN:VCALENDAR
VERSION:2.0
PRODID:-//The Grand Hotel - ECPv5.0.1//NONSGML v1.0//EN
CALSCALE:GREGORIAN
METHOD:PUBLISH
X-WR-CALNAME:The Grand Hotel
X-ORIGINAL-URL:http://www.grandhotelfrankston.com.au
X-WR-CALDESC:Events for The Grand Hotel
BEGIN:VTIMEZONE
TZID:UTC
BEGIN:STANDARD
TZOFFSETFROM:+0000
TZOFFSETTO:+0000
TZNAME:UTC
DTSTART:20190101T000000
END:STANDARD
END:VTIMEZONE
BEGIN:VEVENT
DTSTART;TZID=UTC:20191002T080000
DTEND;TZID=UTC:20191031T233000
DTSTAMP:20200301T175318
CREATED:20191002T053855Z
LAST-MODIFIED:20191002T053855Z
UID:1502-1570003200-1572564600@www.grandhotelfrankston.com.au
SUMMARY:Carlton Draught Pints ONLY $8
DESCRIPTION:Join us here at The Grand throughout October and enjoy Carlton Draught Pints for ONLY $8! \n
URL:http://www.grandhotelfrankston.com.au/event/carlton-draught-pints-only-8/
CATEGORIES:featured
ATTACH;FMTTYPE=image/jpeg:http://www.grandhotelfrankston.com.au/wp-content/uploads/2019/10/Carlton-Draught-pints-8-TV-wide.jpg
END:VEVENT
BEGIN:VEVENT
DTSTART;TZID=UTC:20191012T000000
DTEND;TZID=UTC:20191109T000000
DTSTAMP:20200301T175318
CREATED:20190923T002514Z
LAST-MODIFIED:20190923T123410Z
UID:1478-1570838400-1573257600@www.grandhotelfrankston.com.au
SUMMARY:Spring Carnival
DESCRIPTION:Join us this Spring Carnival…\nLadbrokes Caulfield Guineas Day\nSaturday\, 12 October 2019 \nStella Artois Caulfield Cup Day\nSaturday\, 19 October 2019 \nThe Everest\nSaturday\, 19 October 2019 \nDerby Day\nSaturday\, 2 November 2019 \nPeninsula Cup Day\nSunday\, 3 November 2019 \nMelbourne Cup Day\nTuesday\, 5 November 2019 \nOaks Day\nThursday\, 7 November 2019 \nStakes Day\nSaturday\, 9 November 2019 \nZipping Classic Day\nSaturday\, 16 November 2019 \n  \n  \n
URL:http://www.grandhotelfrankston.com.au/event/spring-carnival/
ATTACH;FMTTYPE=image/jpeg:http://www.grandhotelfrankston.com.au/wp-content/uploads/2019/09/TheGrand_SPRING-CARNVAL-2019-TV-wide.jpg
END:VEVENT
END:VCALENDAR