BEGIN:VCALENDAR
VERSION:2.0
PRODID:-//The Grand Hotel - ECPv5.0.1//NONSGML v1.0//EN
CALSCALE:GREGORIAN
METHOD:PUBLISH
X-WR-CALNAME:The Grand Hotel
X-ORIGINAL-URL:http://www.grandhotelfrankston.com.au
X-WR-CALDESC:Events for The Grand Hotel
BEGIN:VTIMEZONE
TZID:UTC
BEGIN:STANDARD
TZOFFSETFROM:+0000
TZOFFSETTO:+0000
TZNAME:UTC
DTSTART:20190101T000000
END:STANDARD
END:VTIMEZONE
BEGIN:VEVENT
DTSTART;TZID=UTC:20190828T080000
DTEND;TZID=UTC:20190928T180000
DTSTAMP:20200301T192144
CREATED:20190828T071453Z
LAST-MODIFIED:20190828T071453Z
UID:1410-1566979200-1569693600@www.grandhotelfrankston.com.au
SUMMARY:Footy Finals
DESCRIPTION:Watch all the Footy Finals LIVE with us here at The Grand Hotel \n
URL:http://www.grandhotelfrankston.com.au/event/footy-finals/
CATEGORIES:featured
ATTACH;FMTTYPE=image/jpeg:http://www.grandhotelfrankston.com.au/wp-content/uploads/2019/08/20190816-PLG_Generic-AFL-Finals-2019-TV-wide-1.jpg
END:VEVENT
END:VCALENDAR